BEGIN:VCALENDAR
VERSION:2.0
PRODID:-//MD Moonshot - ECPv6.15.11//NONSGML v1.0//EN
CALSCALE:GREGORIAN
METHOD:PUBLISH
X-WR-CALNAME:MD Moonshot
X-ORIGINAL-URL:https://mdmoonshot.org
X-WR-CALDESC:Events for MD Moonshot
REFRESH-INTERVAL;VALUE=DURATION:PT1H
X-Robots-Tag:noindex
X-PUBLISHED-TTL:PT1H
BEGIN:VTIMEZONE
TZID:America/New_York
BEGIN:DAYLIGHT
TZOFFSETFROM:-0500
TZOFFSETTO:-0400
TZNAME:EDT
DTSTART:20230312T070000
END:DAYLIGHT
BEGIN:STANDARD
TZOFFSETFROM:-0400
TZOFFSETTO:-0500
TZNAME:EST
DTSTART:20231105T060000
END:STANDARD
BEGIN:DAYLIGHT
TZOFFSETFROM:-0500
TZOFFSETTO:-0400
TZNAME:EDT
DTSTART:20240310T070000
END:DAYLIGHT
BEGIN:STANDARD
TZOFFSETFROM:-0400
TZOFFSETTO:-0500
TZNAME:EST
DTSTART:20241103T060000
END:STANDARD
BEGIN:DAYLIGHT
TZOFFSETFROM:-0500
TZOFFSETTO:-0400
TZNAME:EDT
DTSTART:20250309T070000
END:DAYLIGHT
BEGIN:STANDARD
TZOFFSETFROM:-0400
TZOFFSETTO:-0500
TZNAME:EST
DTSTART:20251102T060000
END:STANDARD
END:VTIMEZONE
BEGIN:VEVENT
DTSTART;TZID=America/New_York:20240518T083000
DTEND;TZID=America/New_York:20240518T160000
DTSTAMP:20260420T103213
CREATED:20240429T183210Z
LAST-MODIFIED:20240429T183210Z
UID:2959-1716021000-1716048000@mdmoonshot.org
SUMMARY:2024 STEM-ING Event
DESCRIPTION:STEM-ING is an annual event empowering Southern Maryland middle school girls through STEM. We have an exciting program planned for 2024! \nThere are 11 workshops to choose from! Students will participate in 3 hands-on workshops during the event. Workshop space is limited and availability is on a first-come-first-serve basis. Students’ top workshop choices may not be guaranteed. If the students’ first choices are not granted due to availability\, then the registrant will be placed in their backup workshop choice or another available workshop. Desired workshops will be selected during registration. Visit website for workshop descriptions. \nLocation: St. Mary’s College of Maryland – Michael P. O’Brien Athletics & Recreation Center\, 18952 East Fishers Road St. Mary’s College of Maryland\, St. Mary’s City\, MD 20686 \n 
URL:https://mdmoonshot.org/event/2024-stem-ing-event/
END:VEVENT
END:VCALENDAR