BEGIN:VCALENDAR
VERSION:2.0
PRODID:-//MD Moonshot - ECPv6.15.11//NONSGML v1.0//EN
CALSCALE:GREGORIAN
METHOD:PUBLISH
X-ORIGINAL-URL:https://mdmoonshot.org
X-WR-CALDESC:Events for MD Moonshot
REFRESH-INTERVAL;VALUE=DURATION:PT1H
X-Robots-Tag:noindex
X-PUBLISHED-TTL:PT1H
BEGIN:VTIMEZONE
TZID:America/New_York
BEGIN:DAYLIGHT
TZOFFSETFROM:-0500
TZOFFSETTO:-0400
TZNAME:EDT
DTSTART:20230312T070000
END:DAYLIGHT
BEGIN:STANDARD
TZOFFSETFROM:-0400
TZOFFSETTO:-0500
TZNAME:EST
DTSTART:20231105T060000
END:STANDARD
BEGIN:DAYLIGHT
TZOFFSETFROM:-0500
TZOFFSETTO:-0400
TZNAME:EDT
DTSTART:20240310T070000
END:DAYLIGHT
BEGIN:STANDARD
TZOFFSETFROM:-0400
TZOFFSETTO:-0500
TZNAME:EST
DTSTART:20241103T060000
END:STANDARD
BEGIN:DAYLIGHT
TZOFFSETFROM:-0500
TZOFFSETTO:-0400
TZNAME:EDT
DTSTART:20250309T070000
END:DAYLIGHT
BEGIN:STANDARD
TZOFFSETFROM:-0400
TZOFFSETTO:-0500
TZNAME:EST
DTSTART:20251102T060000
END:STANDARD
END:VTIMEZONE
BEGIN:VEVENT
DTSTART;TZID=America/New_York:20240413T100000
DTEND;TZID=America/New_York:20240413T110000
DTSTAMP:20260420T055636
CREATED:20240404T181912Z
LAST-MODIFIED:20240404T181912Z
UID:2919-1713002400-1713006000@mdmoonshot.org
SUMMARY:STEM Adventures
DESCRIPTION:Join Kiddie Academy for STEM Adventures! \nYou and your children can participate in fun activities that show how we make learning about Science\, Technology\, Engineering and Math relevant and exciting! \nThis event is FREE and open to everyone\, so bring a friend or two! \n  \nLocation: 3495 Box Hill Corporate Center Drive\, Abingdon\, MD 21009 \nPhone: 410-569-1787
URL:https://mdmoonshot.org/event/stem-adventures/
END:VEVENT
BEGIN:VEVENT
DTSTART;TZID=America/New_York:20240413T140000
DTEND;TZID=America/New_York:20240413T143000
DTSTAMP:20260420T055636
CREATED:20240404T183008Z
LAST-MODIFIED:20240404T183008Z
UID:2922-1713016800-1713018600@mdmoonshot.org
SUMMARY:Science Discovery: Sound and Voice Boxes
DESCRIPTION:Play with a variety of sound making\, voice changing\, and message recording items while learning about the STEM within sound. INCLUDED WITH MUSEUM ADMISSION \nPort Discovery Children’s Museum \n35 Market Place\nBaltimore\, MD 21202
URL:https://mdmoonshot.org/event/science-discovery-sound-and-voice-boxes/
END:VEVENT
END:VCALENDAR