BEGIN:VCALENDAR
VERSION:2.0
PRODID:-//MD Moonshot - ECPv6.15.11//NONSGML v1.0//EN
CALSCALE:GREGORIAN
METHOD:PUBLISH
X-WR-CALNAME:MD Moonshot
X-ORIGINAL-URL:https://mdmoonshot.org
X-WR-CALDESC:Events for MD Moonshot
REFRESH-INTERVAL;VALUE=DURATION:PT1H
X-Robots-Tag:noindex
X-PUBLISHED-TTL:PT1H
BEGIN:VTIMEZONE
TZID:America/New_York
BEGIN:DAYLIGHT
TZOFFSETFROM:-0500
TZOFFSETTO:-0400
TZNAME:EDT
DTSTART:20230312T070000
END:DAYLIGHT
BEGIN:STANDARD
TZOFFSETFROM:-0400
TZOFFSETTO:-0500
TZNAME:EST
DTSTART:20231105T060000
END:STANDARD
BEGIN:DAYLIGHT
TZOFFSETFROM:-0500
TZOFFSETTO:-0400
TZNAME:EDT
DTSTART:20240310T070000
END:DAYLIGHT
BEGIN:STANDARD
TZOFFSETFROM:-0400
TZOFFSETTO:-0500
TZNAME:EST
DTSTART:20241103T060000
END:STANDARD
BEGIN:DAYLIGHT
TZOFFSETFROM:-0500
TZOFFSETTO:-0400
TZNAME:EDT
DTSTART:20250309T070000
END:DAYLIGHT
BEGIN:STANDARD
TZOFFSETFROM:-0400
TZOFFSETTO:-0500
TZNAME:EST
DTSTART:20251102T060000
END:STANDARD
END:VTIMEZONE
BEGIN:VEVENT
DTSTART;TZID=America/New_York:20240409T160000
DTEND;TZID=America/New_York:20240409T170000
DTSTAMP:20260420T055900
CREATED:20240404T175513Z
LAST-MODIFIED:20240404T175513Z
UID:2913-1712678400-1712682000@mdmoonshot.org
SUMMARY:STEM-tastic! Earth Day and Climate Change
DESCRIPTION:Become a scientist by conducting hands-on\, fun science activities using basic scientific principles. ¡Vengan a disfrutar de actividades y experimentos divertidos de ciencias! \n***Ages 5 – 12 \n  \nPrince George’s County Memorial Library – Hyattsville \n6530 Adelphi Road\, Hyattsville\, MD 20782 \nPhone: (240) 455-5451
URL:https://mdmoonshot.org/event/stem-tastic-earth-day-and-climate-change/
END:VEVENT
END:VCALENDAR